BEGIN:VCALENDAR
VERSION:2.0
PRODID:-//Enlighten.Net - ECPv6.15.20//NONSGML v1.0//EN
CALSCALE:GREGORIAN
METHOD:PUBLISH
X-ORIGINAL-URL:https://www.enlighten.net
X-WR-CALDESC:Events for Enlighten.Net
REFRESH-INTERVAL;VALUE=DURATION:PT1H
X-Robots-Tag:noindex
X-PUBLISHED-TTL:PT1H
BEGIN:VTIMEZONE
TZID:America/New_York
BEGIN:DAYLIGHT
TZOFFSETFROM:-0500
TZOFFSETTO:-0400
TZNAME:EDT
DTSTART:20250309T070000
END:DAYLIGHT
BEGIN:STANDARD
TZOFFSETFROM:-0400
TZOFFSETTO:-0500
TZNAME:EST
DTSTART:20251102T060000
END:STANDARD
BEGIN:DAYLIGHT
TZOFFSETFROM:-0500
TZOFFSETTO:-0400
TZNAME:EDT
DTSTART:20260308T070000
END:DAYLIGHT
BEGIN:STANDARD
TZOFFSETFROM:-0400
TZOFFSETTO:-0500
TZNAME:EST
DTSTART:20261101T060000
END:STANDARD
BEGIN:DAYLIGHT
TZOFFSETFROM:-0500
TZOFFSETTO:-0400
TZNAME:EDT
DTSTART:20270314T070000
END:DAYLIGHT
BEGIN:STANDARD
TZOFFSETFROM:-0400
TZOFFSETTO:-0500
TZNAME:EST
DTSTART:20271107T060000
END:STANDARD
END:VTIMEZONE
BEGIN:VEVENT
DTSTART;VALUE=DATE:20260420
DTEND;VALUE=DATE:20260423
DTSTAMP:20260423T162010
CREATED:20251229T183731Z
LAST-MODIFIED:20260105T171238Z
UID:10670-1776643200-1776902399@www.enlighten.net
SUMMARY:ISA (Industrial Supply Association) - Annual Convention
DESCRIPTION:
URL:https://www.enlighten.net/event/isa-industrial-supply-association-convention/
END:VEVENT
BEGIN:VEVENT
DTSTART;VALUE=DATE:20260408
DTEND;VALUE=DATE:20260411
DTSTAMP:20260423T162010
CREATED:20251229T183315Z
LAST-MODIFIED:20260105T171303Z
UID:10667-1775606400-1775865599@www.enlighten.net
SUMMARY:AHTD (Association for High Technology Distribution) - Spring Conference
DESCRIPTION:
URL:https://www.enlighten.net/event/ahtd-association-for-high-technology-distribution-spring-conference/
END:VEVENT
BEGIN:VEVENT
DTSTART;TZID=America/New_York:20260304T140000
DTEND;TZID=America/New_York:20260304T150000
DTSTAMP:20260423T162010
CREATED:20251229T182944Z
LAST-MODIFIED:20251229T182944Z
UID:10664-1772632800-1772636400@www.enlighten.net
SUMMARY:P21 World Wide Users Group - Webinar
DESCRIPTION:
URL:https://www.enlighten.net/event/p21-world-wide-users-group-webinar/
ORGANIZER;CN="P21 WWUG":MAILTO:cheryl@p21ww.org
END:VEVENT
BEGIN:VEVENT
DTSTART;VALUE=DATE:20260217
DTEND;VALUE=DATE:20260220
DTSTAMP:20260423T162010
CREATED:20251229T182626Z
LAST-MODIFIED:20260105T171335Z
UID:10660-1771286400-1771545599@www.enlighten.net
SUMMARY:NFPA (National Fluid Power Association) - Annual Conference
DESCRIPTION:
URL:https://www.enlighten.net/event/nfpa-national-fluid-power-association-annual-conference/
END:VEVENT
END:VCALENDAR